BEGIN:VCALENDAR
VERSION:2.0
PRODID:-//Washtenaw County Road Commission - ECPv6.15.20//NONSGML v1.0//EN
CALSCALE:GREGORIAN
METHOD:PUBLISH
X-ORIGINAL-URL:https://www.wcroads.org
X-WR-CALDESC:Events for Washtenaw County Road Commission
REFRESH-INTERVAL;VALUE=DURATION:PT1H
X-Robots-Tag:noindex
X-PUBLISHED-TTL:PT1H
BEGIN:VTIMEZONE
TZID:America/Detroit
BEGIN:DAYLIGHT
TZOFFSETFROM:-0500
TZOFFSETTO:-0400
TZNAME:EDT
DTSTART:20250309T070000
END:DAYLIGHT
BEGIN:STANDARD
TZOFFSETFROM:-0400
TZOFFSETTO:-0500
TZNAME:EST
DTSTART:20251102T060000
END:STANDARD
BEGIN:DAYLIGHT
TZOFFSETFROM:-0500
TZOFFSETTO:-0400
TZNAME:EDT
DTSTART:20260308T070000
END:DAYLIGHT
BEGIN:STANDARD
TZOFFSETFROM:-0400
TZOFFSETTO:-0500
TZNAME:EST
DTSTART:20261101T060000
END:STANDARD
BEGIN:DAYLIGHT
TZOFFSETFROM:-0500
TZOFFSETTO:-0400
TZNAME:EDT
DTSTART:20270314T070000
END:DAYLIGHT
BEGIN:STANDARD
TZOFFSETFROM:-0400
TZOFFSETTO:-0500
TZNAME:EST
DTSTART:20271107T060000
END:STANDARD
END:VTIMEZONE
BEGIN:VEVENT
DTSTART;TZID=America/Detroit:20260303T130000
DTEND;TZID=America/Detroit:20260303T150000
DTSTAMP:20260422T103427
CREATED:20251218T142524Z
LAST-MODIFIED:20251218T142524Z
UID:56935-1772542800-1772550000@www.wcroads.org
SUMMARY:Board Meeting
DESCRIPTION:The Washtenaw County Board of County Road Commissioners will hold an in-person Board Meeting on Tuesday\, March 3\, 2026 at 1 p.m. The public is welcome to attend the 2026 board meetings either in-person or virtually via Zoom. \nJoin the board meeting virtually by visiting wcroads.org/about/the-board/board-meetings/ or dialing (312) 626-6799\, meeting ID: 184 341 317. Participants will be able to address the board virtually or in-person during the public comment period on the agenda. Visit wcroads.org/joining-a-virtual-board-meeting/ for more information.
URL:https://www.wcroads.org/event/board-meeting-3-3-26/
LOCATION:Washtenaw County Road Commission\, 555 N Zeeb Road\, MI\, 48103\, United States
CATEGORIES:Board Meeting
ATTACH;FMTTYPE=image/png:https://www.wcroads.org/wp-content/uploads/2025/12/Board-Meeting-300x251-1.png
ORGANIZER;CN="Washtenaw County Road Commission":MAILTO:wcrc@wcroads.org
END:VEVENT
BEGIN:VEVENT
DTSTART;TZID=America/Detroit:20260304T120000
DTEND;TZID=America/Detroit:20260304T123000
DTSTAMP:20260422T103427
CREATED:20251218T165457Z
LAST-MODIFIED:20251218T181303Z
UID:56988-1772625600-1772627400@www.wcroads.org
SUMMARY:Chat with the Road Commission
DESCRIPTION:Have a question about county roads but can’t make a board meeting? \nWCRC is offering virtual office hours every Wednesday at noon. WCRC representatives will be available on Zoom from 12 – 12:30 p.m. to informally discuss your questions or concerns. RSVPs to the weekly chat are encouraged but not required.
URL:https://www.wcroads.org/event/chat-with-the-road-commission-5/
CATEGORIES:Chat with the Road Commission
ATTACH;FMTTYPE=image/png:https://www.wcroads.org/wp-content/uploads/2025/12/Website-Event-Images-15-300x251-1.png
ORGANIZER;CN="Washtenaw County Road Commission":MAILTO:wcrc@wcroads.org
END:VEVENT
BEGIN:VEVENT
DTSTART;TZID=America/Detroit:20260305T110000
DTEND;TZID=America/Detroit:20260305T120000
DTSTAMP:20260422T103427
CREATED:20260128T205239Z
LAST-MODIFIED:20260128T205239Z
UID:57798-1772708400-1772712000@www.wcroads.org
SUMMARY:Construction Virtual Public Meeting: Scio Church Rd at Zeeb Rd Roundabout (Lodi & Scio Twps.)
DESCRIPTION:PROJECT: Scio Church Rd at Zeeb Rd Roundabout Project \nWHEN: Thursday\, March 5\, 2026\, at 11 a.m. \nWHERE: Online: https://bit.ly/wcrcprojectmeeting \nBy Phone: (929) 205-6099\, Meeting ID: 879 2332 8754 \nWHY: The Washtenaw County Road Commission (WCRC) will hold a virtual project information meeting regarding the construction of the Scio Church Road at Zeeb Road Roundabout Project in Lodi and Scio Townships. \nThe virtual public meeting will be held via Zoom on Thursday\, March 5\, 2026\, at 11 a.m. There will be a brief presentation followed by time for questions from the audience. A recording of the meeting will be posted to the project web page after the meeting. \nClick here to learn more about joining the virtual meeting. \nCONTACT: If you have any questions concerning this project\, please contact Neeko Robison\, Project Manager\, at (734) 327-6660\, or via email at robisonn@wcroads.org. \nWCRC will provide necessary reasonable auxiliary aids and services\, such as signers for the hearing impaired and audiotapes or printed material being presented at the meeting\, to individuals with disabilities upon a 5-business day notice. Individuals with disabilities requiring auxiliary aids or services should contact Tiffany Oliphant\, communications manager\, by phone (734) 327-6646 or by email oliphantt@wcroads.org. \nISSUE DATE: 01/28/26
URL:https://www.wcroads.org/event/construction-virtual-public-meeting-scio-church-rd-at-zeeb-rd-roundabout-lodi-scio-twps/
CATEGORIES:Public Meeting Notice
ATTACH;FMTTYPE=image/png:https://www.wcroads.org/wp-content/uploads/2026/01/VPM-Construction-Meeting-Instagram.png
END:VEVENT
BEGIN:VEVENT
DTSTART;TZID=America/Detroit:20260311T120000
DTEND;TZID=America/Detroit:20260311T123000
DTSTAMP:20260422T103427
CREATED:20251218T180646Z
LAST-MODIFIED:20251218T181338Z
UID:57000-1773230400-1773232200@www.wcroads.org
SUMMARY:Chat with the Road Commission
DESCRIPTION:Have a question about county roads but can’t make a board meeting? \nWCRC is offering virtual office hours every Wednesday at noon. WCRC representatives will be available on Zoom from 12 – 12:30 p.m. to informally discuss your questions or concerns. RSVPs to the weekly chat are encouraged but not required.
URL:https://www.wcroads.org/event/chat-with-the-road-commission-8/
CATEGORIES:Chat with the Road Commission
ATTACH;FMTTYPE=image/png:https://www.wcroads.org/wp-content/uploads/2025/12/Website-Event-Images-15-300x251-1.png
ORGANIZER;CN="Washtenaw County Road Commission":MAILTO:wcrc@wcroads.org
END:VEVENT
BEGIN:VEVENT
DTSTART;TZID=America/Detroit:20260317T090000
DTEND;TZID=America/Detroit:20260317T113000
DTSTAMP:20260422T103427
CREATED:20251218T160236Z
LAST-MODIFIED:20251218T160236Z
UID:56966-1773738000-1773747000@www.wcroads.org
SUMMARY:Working Session
DESCRIPTION:The Washtenaw County Board of County Road Commissioners will hold an in-person Working Session on Tuesday\, March 17\, 2026 at 9 a.m. The public is welcome to attend the 2026 working sessions either in-person or virtually via Zoom. \nJoin the working session virtually by visiting wcroads.org/about/the-board/board-meetings/ or dialing (312) 626-6799\, meeting ID: 184 341 317. Participants will be able to address the board virtually or in-person during the public comment period on the agenda. Visit wcroads.org/joining-a-virtual-board-meeting/ for more information.
URL:https://www.wcroads.org/event/working-session-3-17-26/
LOCATION:Washtenaw County Road Commission\, 555 N Zeeb Road\, MI\, 48103\, United States
CATEGORIES:Working Session
ATTACH;FMTTYPE=image/png:https://www.wcroads.org/wp-content/uploads/2025/12/Working-Session-300x251-1.png
ORGANIZER;CN="Washtenaw County Road Commission":MAILTO:wcrc@wcroads.org
END:VEVENT
BEGIN:VEVENT
DTSTART;TZID=America/Detroit:20260317T130000
DTEND;TZID=America/Detroit:20260317T150000
DTSTAMP:20260422T103427
CREATED:20251218T142838Z
LAST-MODIFIED:20251218T142838Z
UID:56938-1773752400-1773759600@www.wcroads.org
SUMMARY:Board Meeting
DESCRIPTION:The Washtenaw County Board of County Road Commissioners will hold an in-person Board Meeting on Tuesday\, March 17\, 2026 at 1 p.m. The public is welcome to attend the 2026 board meetings either in-person or virtually via Zoom. \nJoin the board meeting virtually by visiting wcroads.org/about/the-board/board-meetings/ or dialing (312) 626-6799\, meeting ID: 184 341 317. Participants will be able to address the board virtually or in-person during the public comment period on the agenda. Visit wcroads.org/joining-a-virtual-board-meeting/ for more information.
URL:https://www.wcroads.org/event/board-meeting-3-17-26/
LOCATION:Washtenaw County Road Commission\, 555 N Zeeb Road\, MI\, 48103\, United States
CATEGORIES:Board Meeting
ATTACH;FMTTYPE=image/png:https://www.wcroads.org/wp-content/uploads/2025/12/Board-Meeting-300x251-1.png
ORGANIZER;CN="Washtenaw County Road Commission":MAILTO:wcrc@wcroads.org
END:VEVENT
BEGIN:VEVENT
DTSTART;TZID=America/Detroit:20260318T120000
DTEND;TZID=America/Detroit:20260318T123000
DTSTAMP:20260422T103427
CREATED:20251218T175032Z
LAST-MODIFIED:20251218T181411Z
UID:56989-1773835200-1773837000@www.wcroads.org
SUMMARY:Chat with the Road Commission
DESCRIPTION:Have a question about county roads but can’t make a board meeting? \nWCRC is offering virtual office hours every Wednesday at noon. WCRC representatives will be available on Zoom from 12 – 12:30 p.m. to informally discuss your questions or concerns. RSVPs to the weekly chat are encouraged but not required.
URL:https://www.wcroads.org/event/chat-with-the-road-commission-6/
CATEGORIES:Chat with the Road Commission
ATTACH;FMTTYPE=image/png:https://www.wcroads.org/wp-content/uploads/2025/12/Website-Event-Images-15-300x251-1.png
ORGANIZER;CN="Washtenaw County Road Commission":MAILTO:wcrc@wcroads.org
END:VEVENT
END:VCALENDAR