BEGIN:VCALENDAR
VERSION:2.0
PRODID:-//Washtenaw County Road Commission - ECPv6.15.20//NONSGML v1.0//EN
CALSCALE:GREGORIAN
METHOD:PUBLISH
X-ORIGINAL-URL:https://www.wcroads.org
X-WR-CALDESC:Events for Washtenaw County Road Commission
REFRESH-INTERVAL;VALUE=DURATION:PT1H
X-Robots-Tag:noindex
X-PUBLISHED-TTL:PT1H
BEGIN:VTIMEZONE
TZID:America/Detroit
BEGIN:DAYLIGHT
TZOFFSETFROM:-0500
TZOFFSETTO:-0400
TZNAME:EDT
DTSTART:20240310T070000
END:DAYLIGHT
BEGIN:STANDARD
TZOFFSETFROM:-0400
TZOFFSETTO:-0500
TZNAME:EST
DTSTART:20241103T060000
END:STANDARD
BEGIN:DAYLIGHT
TZOFFSETFROM:-0500
TZOFFSETTO:-0400
TZNAME:EDT
DTSTART:20250309T070000
END:DAYLIGHT
BEGIN:STANDARD
TZOFFSETFROM:-0400
TZOFFSETTO:-0500
TZNAME:EST
DTSTART:20251102T060000
END:STANDARD
BEGIN:DAYLIGHT
TZOFFSETFROM:-0500
TZOFFSETTO:-0400
TZNAME:EDT
DTSTART:20260308T070000
END:DAYLIGHT
BEGIN:STANDARD
TZOFFSETFROM:-0400
TZOFFSETTO:-0500
TZNAME:EST
DTSTART:20261101T060000
END:STANDARD
BEGIN:DAYLIGHT
TZOFFSETFROM:-0500
TZOFFSETTO:-0400
TZNAME:EDT
DTSTART:20270314T070000
END:DAYLIGHT
BEGIN:STANDARD
TZOFFSETFROM:-0400
TZOFFSETTO:-0500
TZNAME:EST
DTSTART:20271107T060000
END:STANDARD
END:VTIMEZONE
BEGIN:VEVENT
DTSTART;TZID=America/Detroit:20260407T130000
DTEND;TZID=America/Detroit:20260407T150000
DTSTAMP:20260421T060634
CREATED:20251218T143108Z
LAST-MODIFIED:20251218T143108Z
UID:56940-1775566800-1775574000@www.wcroads.org
SUMMARY:Board Meeting
DESCRIPTION:The Washtenaw County Board of County Road Commissioners will hold an in-person Board Meeting on Tuesday\, April 7\, 2026 at 1 p.m. The public is welcome to attend the 2026 board meetings either in-person or virtually via Zoom. \nJoin the board meeting virtually by visiting wcroads.org/about/the-board/board-meetings/ or dialing (312) 626-6799\, meeting ID: 184 341 317. Participants will be able to address the board virtually or in-person during the public comment period on the agenda. Visit wcroads.org/joining-a-virtual-board-meeting/ for more information.
URL:https://www.wcroads.org/event/board-meeting-4-7-26/
LOCATION:Washtenaw County Road Commission\, 555 N Zeeb Road\, MI\, 48103\, United States
CATEGORIES:Board Meeting
ATTACH;FMTTYPE=image/png:https://www.wcroads.org/wp-content/uploads/2025/12/Board-Meeting-300x251-1.png
ORGANIZER;CN="Washtenaw County Road Commission":MAILTO:wcrc@wcroads.org
END:VEVENT
BEGIN:VEVENT
DTSTART;TZID=America/Detroit:20260317T130000
DTEND;TZID=America/Detroit:20260317T150000
DTSTAMP:20260421T060634
CREATED:20251218T142838Z
LAST-MODIFIED:20251218T142838Z
UID:56938-1773752400-1773759600@www.wcroads.org
SUMMARY:Board Meeting
DESCRIPTION:The Washtenaw County Board of County Road Commissioners will hold an in-person Board Meeting on Tuesday\, March 17\, 2026 at 1 p.m. The public is welcome to attend the 2026 board meetings either in-person or virtually via Zoom. \nJoin the board meeting virtually by visiting wcroads.org/about/the-board/board-meetings/ or dialing (312) 626-6799\, meeting ID: 184 341 317. Participants will be able to address the board virtually or in-person during the public comment period on the agenda. Visit wcroads.org/joining-a-virtual-board-meeting/ for more information.
URL:https://www.wcroads.org/event/board-meeting-3-17-26/
LOCATION:Washtenaw County Road Commission\, 555 N Zeeb Road\, MI\, 48103\, United States
CATEGORIES:Board Meeting
ATTACH;FMTTYPE=image/png:https://www.wcroads.org/wp-content/uploads/2025/12/Board-Meeting-300x251-1.png
ORGANIZER;CN="Washtenaw County Road Commission":MAILTO:wcrc@wcroads.org
END:VEVENT
BEGIN:VEVENT
DTSTART;TZID=America/Detroit:20260303T130000
DTEND;TZID=America/Detroit:20260303T150000
DTSTAMP:20260421T060634
CREATED:20251218T142524Z
LAST-MODIFIED:20251218T142524Z
UID:56935-1772542800-1772550000@www.wcroads.org
SUMMARY:Board Meeting
DESCRIPTION:The Washtenaw County Board of County Road Commissioners will hold an in-person Board Meeting on Tuesday\, March 3\, 2026 at 1 p.m. The public is welcome to attend the 2026 board meetings either in-person or virtually via Zoom. \nJoin the board meeting virtually by visiting wcroads.org/about/the-board/board-meetings/ or dialing (312) 626-6799\, meeting ID: 184 341 317. Participants will be able to address the board virtually or in-person during the public comment period on the agenda. Visit wcroads.org/joining-a-virtual-board-meeting/ for more information.
URL:https://www.wcroads.org/event/board-meeting-3-3-26/
LOCATION:Washtenaw County Road Commission\, 555 N Zeeb Road\, MI\, 48103\, United States
CATEGORIES:Board Meeting
ATTACH;FMTTYPE=image/png:https://www.wcroads.org/wp-content/uploads/2025/12/Board-Meeting-300x251-1.png
ORGANIZER;CN="Washtenaw County Road Commission":MAILTO:wcrc@wcroads.org
END:VEVENT
BEGIN:VEVENT
DTSTART;TZID=America/Detroit:20260219T130000
DTEND;TZID=America/Detroit:20260219T150000
DTSTAMP:20260421T060634
CREATED:20251218T142258Z
LAST-MODIFIED:20251218T142258Z
UID:56933-1771506000-1771513200@www.wcroads.org
SUMMARY:Board Meeting
DESCRIPTION:The Washtenaw County Board of County Road Commissioners will hold an in-person Board Meeting on Thursday\, February 19\, 2026 at 1 p.m. The public is welcome to attend the 2026 board meetings either in-person or virtually via Zoom. \nJoin the board meeting virtually by visiting wcroads.org/about/the-board/board-meetings/ or dialing (312) 626-6799\, meeting ID: 184 341 317. Participants will be able to address the board virtually or in-person during the public comment period on the agenda. Visit wcroads.org/joining-a-virtual-board-meeting/ for more information.
URL:https://www.wcroads.org/event/board-meeting/
LOCATION:Washtenaw County Road Commission\, 555 N Zeeb Road\, MI\, 48103\, United States
CATEGORIES:Board Meeting
ATTACH;FMTTYPE=image/png:https://www.wcroads.org/wp-content/uploads/2025/12/Board-Meeting-300x251-1.png
ORGANIZER;CN="Washtenaw County Road Commission":MAILTO:wcrc@wcroads.org
END:VEVENT
BEGIN:VEVENT
DTSTART;TZID=America/Detroit:20260203T130000
DTEND;TZID=America/Detroit:20260203T150000
DTSTAMP:20260421T060634
CREATED:20251218T141952Z
LAST-MODIFIED:20251218T141952Z
UID:56930-1770123600-1770130800@www.wcroads.org
SUMMARY:Board Meeting
DESCRIPTION:The Washtenaw County Board of County Road Commissioners will hold an in-person Board Meeting on Tuesday\, February 3\, 2026 at 1 p.m. The public is welcome to attend the 2026 board meetings either in-person or virtually via Zoom. \nJoin the board meeting virtually by visiting wcroads.org/about/the-board/board-meetings/ or dialing (312) 626-6799\, meeting ID: 184 341 317. Participants will be able to address the board virtually or in-person during the public comment period on the agenda. Visit wcroads.org/joining-a-virtual-board-meeting/ for more information.
URL:https://www.wcroads.org/event/board-meeting-2-3-25/
LOCATION:Washtenaw County Road Commission\, 555 N Zeeb Road\, MI\, 48103\, United States
CATEGORIES:Board Meeting
ATTACH;FMTTYPE=image/png:https://www.wcroads.org/wp-content/uploads/2025/12/Board-Meeting-300x251-1.png
ORGANIZER;CN="Washtenaw County Road Commission":MAILTO:wcrc@wcroads.org
END:VEVENT
BEGIN:VEVENT
DTSTART;TZID=America/Detroit:20260120T130000
DTEND;TZID=America/Detroit:20260120T150000
DTSTAMP:20260421T060634
CREATED:20251218T141639Z
LAST-MODIFIED:20251218T141639Z
UID:56927-1768914000-1768921200@www.wcroads.org
SUMMARY:Board Meeting
DESCRIPTION:The Washtenaw County Board of County Road Commissioners will hold an in-person Board Meeting on Tuesday\, January 20\, 2026 at 1 p.m. The public is welcome to attend the 2026 board meetings either in-person or virtually via Zoom. \nJoin the board meeting virtually by visiting wcroads.org/about/the-board/board-meetings/ or dialing (312) 626-6799\, meeting ID: 184 341 317. Participants will be able to address the board virtually or in-person during the public comment period on the agenda. Visit wcroads.org/joining-a-virtual-board-meeting/ for more information.
URL:https://www.wcroads.org/event/board-meeting-1-20-26/
LOCATION:Washtenaw County Road Commission\, 555 N Zeeb Road\, MI\, 48103\, United States
CATEGORIES:Board Meeting
ATTACH;FMTTYPE=image/png:https://www.wcroads.org/wp-content/uploads/2025/12/Board-Meeting-300x251-1.png
ORGANIZER;CN="Washtenaw County Road Commission":MAILTO:wcrc@wcroads.org
END:VEVENT
BEGIN:VEVENT
DTSTART;TZID=America/Detroit:20260106T130000
DTEND;TZID=America/Detroit:20260106T150000
DTSTAMP:20260421T060634
CREATED:20251218T141117Z
LAST-MODIFIED:20251218T141117Z
UID:56922-1767704400-1767711600@www.wcroads.org
SUMMARY:Board Meeting
DESCRIPTION:The Washtenaw County Board of County Road Commissioners will hold an in-person Board Meeting on Tuesday\, January 6\, 2025 at 1 p.m. The public is welcome to attend the 2026 board meetings either in-person or virtually via Zoom. \nJoin the board meeting virtually by visiting wcroads.org/about/the-board/board-meetings/ or dialing (312) 626-6799\, meeting ID: 184 341 317. Participants will be able to address the board virtually or in-person during the public comment period on the agenda. Visit wcroads.org/joining-a-virtual-board-meeting/ for more information.
URL:https://www.wcroads.org/event/board-meeting-1-6-26/
LOCATION:Washtenaw County Road Commission\, 555 N Zeeb Road\, MI\, 48103\, United States
CATEGORIES:Board Meeting
ATTACH;FMTTYPE=image/png:https://www.wcroads.org/wp-content/uploads/2025/12/Board-Meeting-300x251-1.png
ORGANIZER;CN="Washtenaw County Road Commission":MAILTO:wcrc@wcroads.org
END:VEVENT
BEGIN:VEVENT
DTSTART;TZID=America/Detroit:20251216T130000
DTEND;TZID=America/Detroit:20251216T150000
DTSTAMP:20260421T060634
CREATED:20240919T131025Z
LAST-MODIFIED:20240919T131025Z
UID:50189-1765890000-1765897200@www.wcroads.org
SUMMARY:Board Meeting
DESCRIPTION:The Washtenaw County Board of County Road Commissioners will hold an in-person Board Meeting on Tuesday\, December 16\, 2025 at 1 p.m. The public is welcome to attend the 2025 board meetings either in-person or virtually via Zoom. \nJoin the board meeting virtually by visiting wcroads.org/about/the-board/board-meetings/ or dialing (312) 626-6799\, meeting ID: 184 341 317. Participants will be able to address the board virtually or in-person during the public comment period on the agenda. Visit wcroads.org/joining-a-virtual-board-meeting/ for more information.
URL:https://www.wcroads.org/event/board-meeting-12-16-25/
LOCATION:Washtenaw County Road Commission\, 555 N Zeeb Road\, MI\, 48103\, United States
CATEGORIES:Board Meeting
ATTACH;FMTTYPE=image/png:https://www.wcroads.org/wp-content/uploads/2024/09/Board-Meeting.png
ORGANIZER;CN="Washtenaw County Road Commission":MAILTO:wcrc@wcroads.org
END:VEVENT
BEGIN:VEVENT
DTSTART;TZID=America/Detroit:20251118T130000
DTEND;TZID=America/Detroit:20251118T150000
DTSTAMP:20260421T060634
CREATED:20240919T130743Z
LAST-MODIFIED:20240919T130743Z
UID:50187-1763470800-1763478000@www.wcroads.org
SUMMARY:Board Meeting
DESCRIPTION:The Washtenaw County Board of County Road Commissioners will hold an in-person Board Meeting on Tuesday\, November 18\, 2025 at 1 p.m. The public is welcome to attend the 2025 board meetings either in-person or virtually via Zoom. \nJoin the board meeting virtually by visiting wcroads.org/about/the-board/board-meetings/ or dialing (312) 626-6799\, meeting ID: 184 341 317. Participants will be able to address the board virtually or in-person during the public comment period on the agenda. Visit wcroads.org/joining-a-virtual-board-meeting/ for more information.
URL:https://www.wcroads.org/event/board-meeting-11-18-25/
LOCATION:Washtenaw County Road Commission\, 555 N Zeeb Road\, MI\, 48103\, United States
CATEGORIES:Board Meeting
ATTACH;FMTTYPE=image/png:https://www.wcroads.org/wp-content/uploads/2024/09/Board-Meeting.png
ORGANIZER;CN="Washtenaw County Road Commission":MAILTO:wcrc@wcroads.org
END:VEVENT
BEGIN:VEVENT
DTSTART;TZID=America/Detroit:20251104T130000
DTEND;TZID=America/Detroit:20251104T150000
DTSTAMP:20260421T060634
CREATED:20240919T130633Z
LAST-MODIFIED:20240919T130633Z
UID:50186-1762261200-1762268400@www.wcroads.org
SUMMARY:Board Meeting
DESCRIPTION:The Washtenaw County Board of County Road Commissioners will hold an in-person Board Meeting on Tuesday\, November 4\, 2025 at 1 p.m. The public is welcome to attend the 2025 board meetings either in-person or virtually via Zoom. \nJoin the board meeting virtually by visiting wcroads.org/about/the-board/board-meetings/ or dialing (312) 626-6799\, meeting ID: 184 341 317. Participants will be able to address the board virtually or in-person during the public comment period on the agenda. Visit wcroads.org/joining-a-virtual-board-meeting/ for more information.
URL:https://www.wcroads.org/event/board-meeting-11-4-25/
LOCATION:Washtenaw County Road Commission\, 555 N Zeeb Road\, MI\, 48103\, United States
CATEGORIES:Board Meeting
ATTACH;FMTTYPE=image/png:https://www.wcroads.org/wp-content/uploads/2024/09/Board-Meeting.png
ORGANIZER;CN="Washtenaw County Road Commission":MAILTO:wcrc@wcroads.org
END:VEVENT
BEGIN:VEVENT
DTSTART;TZID=America/Detroit:20251021T130000
DTEND;TZID=America/Detroit:20251021T150000
DTSTAMP:20260421T060634
CREATED:20240919T130516Z
LAST-MODIFIED:20240919T130516Z
UID:50185-1761051600-1761058800@www.wcroads.org
SUMMARY:Board Meeting
DESCRIPTION:The Washtenaw County Board of County Road Commissioners will hold an in-person Board Meeting on Tuesday\, October 21\, 2025 at 1 p.m. The public is welcome to attend the 2025 board meetings either in-person or virtually via Zoom. \nJoin the board meeting virtually by visiting wcroads.org/about/the-board/board-meetings/ or dialing (312) 626-6799\, meeting ID: 184 341 317. Participants will be able to address the board virtually or in-person during the public comment period on the agenda. Visit wcroads.org/joining-a-virtual-board-meeting/ for more information.
URL:https://www.wcroads.org/event/board-meeting-10-21-25/
LOCATION:Washtenaw County Road Commission\, 555 N Zeeb Road\, MI\, 48103\, United States
CATEGORIES:Board Meeting
ATTACH;FMTTYPE=image/png:https://www.wcroads.org/wp-content/uploads/2024/09/Board-Meeting.png
ORGANIZER;CN="Washtenaw County Road Commission":MAILTO:wcrc@wcroads.org
END:VEVENT
BEGIN:VEVENT
DTSTART;TZID=America/Detroit:20251007T130000
DTEND;TZID=America/Detroit:20251007T150000
DTSTAMP:20260421T060634
CREATED:20240919T130322Z
LAST-MODIFIED:20240919T130322Z
UID:50184-1759842000-1759849200@www.wcroads.org
SUMMARY:Board Meeting
DESCRIPTION:The Washtenaw County Board of County Road Commissioners will hold an in-person Board Meeting on Tuesday\, October 7\, 2025 at 1 p.m. The public is welcome to attend the 2025 board meetings either in-person or virtually via Zoom. \nJoin the board meeting virtually by visiting wcroads.org/about/the-board/board-meetings/ or dialing (312) 626-6799\, meeting ID: 184 341 317. Participants will be able to address the board virtually or in-person during the public comment period on the agenda. Visit wcroads.org/joining-a-virtual-board-meeting/ for more information.
URL:https://www.wcroads.org/event/board-meeting-10-7-25/
LOCATION:Washtenaw County Road Commission\, 555 N Zeeb Road\, MI\, 48103\, United States
CATEGORIES:Board Meeting
ATTACH;FMTTYPE=image/png:https://www.wcroads.org/wp-content/uploads/2024/09/Board-Meeting.png
ORGANIZER;CN="Washtenaw County Road Commission":MAILTO:wcrc@wcroads.org
END:VEVENT
BEGIN:VEVENT
DTSTART;TZID=America/Detroit:20251007T100000
DTEND;TZID=America/Detroit:20251007T233000
DTSTAMP:20260421T060634
CREATED:20250827T174012Z
LAST-MODIFIED:20250827T174151Z
UID:54387-1759831200-1759879800@www.wcroads.org
SUMMARY:Special Board Meeting: October 7\, 2025
DESCRIPTION:WHAT: Special Meeting of the Washtenaw County Board of County Road Commissioners \nWHEN: Tuesday\, October 7\, 2025\, at 10 a.m. \nWHERE: 555 N. Zeeb Rd.\, Board Room \nWHY: Closed session for WCRC Managing Director’s Performance Appraisal \nCONTACT:  If you have any questions\, please contact Tiffany Oliphant\, Communications Manager\, by phone (734) 327-6646 or by email oliphantt@wcroads.org. \nISSUE DATE: 8/27/25
URL:https://www.wcroads.org/event/special-board-meeting-october-7-2025/
LOCATION:MI
CATEGORIES:Board Meeting
END:VEVENT
BEGIN:VEVENT
DTSTART;TZID=America/Detroit:20250916T130000
DTEND;TZID=America/Detroit:20250916T150000
DTSTAMP:20260421T060634
CREATED:20240919T130044Z
LAST-MODIFIED:20240919T130044Z
UID:50183-1758027600-1758034800@www.wcroads.org
SUMMARY:Board Meeting
DESCRIPTION:The Washtenaw County Board of County Road Commissioners will hold an in-person Board Meeting on Tuesday\, September 16\, 2025 at 1 p.m. The public is welcome to attend the 2025 board meetings either in-person or virtually via Zoom. \nJoin the board meeting virtually by visiting wcroads.org/about/the-board/board-meetings/ or dialing (312) 626-6799\, meeting ID: 184 341 317. Participants will be able to address the board virtually or in-person during the public comment period on the agenda. Visit wcroads.org/joining-a-virtual-board-meeting/ for more information.
URL:https://www.wcroads.org/event/board-meeting-9-16-25/
LOCATION:Washtenaw County Road Commission\, 555 N Zeeb Road\, MI\, 48103\, United States
CATEGORIES:Board Meeting
ATTACH;FMTTYPE=image/png:https://www.wcroads.org/wp-content/uploads/2024/09/Board-Meeting.png
ORGANIZER;CN="Washtenaw County Road Commission":MAILTO:wcrc@wcroads.org
END:VEVENT
BEGIN:VEVENT
DTSTART;TZID=America/Detroit:20250902T130000
DTEND;TZID=America/Detroit:20250902T150000
DTSTAMP:20260421T060634
CREATED:20240919T125926Z
LAST-MODIFIED:20240919T125926Z
UID:50182-1756818000-1756825200@www.wcroads.org
SUMMARY:Board Meeting
DESCRIPTION:The Washtenaw County Board of County Road Commissioners will hold an in-person Board Meeting on Tuesday\, September 2\, 2025 at 1 p.m. The public is welcome to attend the 2025 board meetings either in-person or virtually via Zoom. \nJoin the board meeting virtually by visiting wcroads.org/about/the-board/board-meetings/ or dialing (312) 626-6799\, meeting ID: 184 341 317. Participants will be able to address the board virtually or in-person during the public comment period on the agenda. Visit wcroads.org/joining-a-virtual-board-meeting/ for more information.
URL:https://www.wcroads.org/event/board-meeting-9-2-25/
LOCATION:Washtenaw County Road Commission\, 555 N Zeeb Road\, MI\, 48103\, United States
CATEGORIES:Board Meeting
ATTACH;FMTTYPE=image/png:https://www.wcroads.org/wp-content/uploads/2024/09/Board-Meeting.png
ORGANIZER;CN="Washtenaw County Road Commission":MAILTO:wcrc@wcroads.org
END:VEVENT
BEGIN:VEVENT
DTSTART;TZID=America/Detroit:20250819T130000
DTEND;TZID=America/Detroit:20250819T150000
DTSTAMP:20260421T060634
CREATED:20240919T125750Z
LAST-MODIFIED:20240919T125809Z
UID:50181-1755608400-1755615600@www.wcroads.org
SUMMARY:Board Meeting
DESCRIPTION:The Washtenaw County Board of County Road Commissioners will hold an in-person Board Meeting on Tuesday\, August 19\, 2025 at 1 p.m. The public is welcome to attend the 2025 board meetings either in-person or virtually via Zoom. \nJoin the board meeting virtually by visiting wcroads.org/about/the-board/board-meetings/ or dialing (312) 626-6799\, meeting ID: 184 341 317. Participants will be able to address the board virtually or in-person during the public comment period on the agenda. Visit wcroads.org/joining-a-virtual-board-meeting/ for more information.
URL:https://www.wcroads.org/event/board-meeting-8-19-25/
LOCATION:Washtenaw County Road Commission\, 555 N Zeeb Road\, MI\, 48103\, United States
CATEGORIES:Board Meeting
ATTACH;FMTTYPE=image/png:https://www.wcroads.org/wp-content/uploads/2024/09/Board-Meeting.png
ORGANIZER;CN="Washtenaw County Road Commission":MAILTO:wcrc@wcroads.org
END:VEVENT
BEGIN:VEVENT
DTSTART;TZID=America/Detroit:20250805T130000
DTEND;TZID=America/Detroit:20250805T150000
DTSTAMP:20260421T060634
CREATED:20240919T125634Z
LAST-MODIFIED:20240919T125634Z
UID:50180-1754398800-1754406000@www.wcroads.org
SUMMARY:Board Meeting
DESCRIPTION:The Washtenaw County Board of County Road Commissioners will hold an in-person Board Meeting on Tuesday\, August 5\, 2025 at 1 p.m. The public is welcome to attend the 2025 board meetings either in-person or virtually via Zoom. \nJoin the board meeting virtually by visiting wcroads.org/about/the-board/board-meetings/ or dialing (312) 626-6799\, meeting ID: 184 341 317. Participants will be able to address the board virtually or in-person during the public comment period on the agenda. Visit wcroads.org/joining-a-virtual-board-meeting/ for more information.
URL:https://www.wcroads.org/event/board-meeting-8-5-25/
LOCATION:Washtenaw County Road Commission\, 555 N Zeeb Road\, MI\, 48103\, United States
CATEGORIES:Board Meeting
ATTACH;FMTTYPE=image/png:https://www.wcroads.org/wp-content/uploads/2024/09/Board-Meeting.png
ORGANIZER;CN="Washtenaw County Road Commission":MAILTO:wcrc@wcroads.org
END:VEVENT
BEGIN:VEVENT
DTSTART;TZID=America/Detroit:20250715T130000
DTEND;TZID=America/Detroit:20250715T150000
DTSTAMP:20260421T060634
CREATED:20240919T125516Z
LAST-MODIFIED:20240919T125516Z
UID:50179-1752584400-1752591600@www.wcroads.org
SUMMARY:Board Meeting
DESCRIPTION:The Washtenaw County Board of County Road Commissioners will hold an in-person Board Meeting on Tuesday\, July 15\, 2025 at 1 p.m. The public is welcome to attend the 2025 board meetings either in-person or virtually via Zoom. \nJoin the board meeting virtually by visiting wcroads.org/about/the-board/board-meetings/ or dialing (312) 626-6799\, meeting ID: 184 341 317. Participants will be able to address the board virtually or in-person during the public comment period on the agenda. Visit wcroads.org/joining-a-virtual-board-meeting/ for more information.
URL:https://www.wcroads.org/event/board-meeting-7-15-25/
LOCATION:Washtenaw County Road Commission\, 555 N Zeeb Road\, MI\, 48103\, United States
CATEGORIES:Board Meeting
ATTACH;FMTTYPE=image/png:https://www.wcroads.org/wp-content/uploads/2024/09/Board-Meeting.png
ORGANIZER;CN="Washtenaw County Road Commission":MAILTO:wcrc@wcroads.org
END:VEVENT
BEGIN:VEVENT
DTSTART;TZID=America/Detroit:20250701T130000
DTEND;TZID=America/Detroit:20250701T150000
DTSTAMP:20260421T060634
CREATED:20240919T125402Z
LAST-MODIFIED:20240919T125402Z
UID:50178-1751374800-1751382000@www.wcroads.org
SUMMARY:Board Meeting
DESCRIPTION:The Washtenaw County Board of County Road Commissioners will hold an in-person Board Meeting on Tuesday\, July 1\, 2025 at 1 p.m. The public is welcome to attend the 2025 board meetings either in-person or virtually via Zoom. \nJoin the board meeting virtually by visiting wcroads.org/about/the-board/board-meetings/ or dialing (312) 626-6799\, meeting ID: 184 341 317. Participants will be able to address the board virtually or in-person during the public comment period on the agenda. Visit wcroads.org/joining-a-virtual-board-meeting/ for more information.
URL:https://www.wcroads.org/event/board-meeting-7-1-25/
LOCATION:Washtenaw County Road Commission\, 555 N Zeeb Road\, MI\, 48103\, United States
CATEGORIES:Board Meeting
ATTACH;FMTTYPE=image/png:https://www.wcroads.org/wp-content/uploads/2024/09/Board-Meeting.png
ORGANIZER;CN="Washtenaw County Road Commission":MAILTO:wcrc@wcroads.org
END:VEVENT
BEGIN:VEVENT
DTSTART;TZID=America/Detroit:20250617T130000
DTEND;TZID=America/Detroit:20250617T150000
DTSTAMP:20260421T060634
CREATED:20240919T125231Z
LAST-MODIFIED:20240919T125231Z
UID:50177-1750165200-1750172400@www.wcroads.org
SUMMARY:Board Meeting
DESCRIPTION:The Washtenaw County Board of County Road Commissioners will hold an in-person Board Meeting on Tuesday\, June 17\, 2025 at 1 p.m. The public is welcome to attend the 2025 board meetings either in-person or virtually via Zoom. \nJoin the board meeting virtually by visiting wcroads.org/about/the-board/board-meetings/ or dialing (312) 626-6799\, meeting ID: 184 341 317. Participants will be able to address the board virtually or in-person during the public comment period on the agenda. Visit wcroads.org/joining-a-virtual-board-meeting/ for more information.
URL:https://www.wcroads.org/event/board-meeting-6-17-25/
LOCATION:Washtenaw County Road Commission\, 555 N Zeeb Road\, MI\, 48103\, United States
CATEGORIES:Board Meeting
ATTACH;FMTTYPE=image/png:https://www.wcroads.org/wp-content/uploads/2024/09/Board-Meeting.png
ORGANIZER;CN="Washtenaw County Road Commission":MAILTO:wcrc@wcroads.org
END:VEVENT
BEGIN:VEVENT
DTSTART;TZID=America/Detroit:20250603T130000
DTEND;TZID=America/Detroit:20250603T150000
DTSTAMP:20260421T060634
CREATED:20240919T125120Z
LAST-MODIFIED:20240919T125120Z
UID:50176-1748955600-1748962800@www.wcroads.org
SUMMARY:Board Meeting
DESCRIPTION:The Washtenaw County Board of County Road Commissioners will hold an in-person Board Meeting on Tuesday\, June 3\, 2025 at 1 p.m. The public is welcome to attend the 2025 board meetings either in-person or virtually via Zoom. \nJoin the board meeting virtually by visiting wcroads.org/about/the-board/board-meetings/ or dialing (312) 626-6799\, meeting ID: 184 341 317. Participants will be able to address the board virtually or in-person during the public comment period on the agenda. Visit wcroads.org/joining-a-virtual-board-meeting/ for more information.
URL:https://www.wcroads.org/event/board-meeting-6-3-25/
LOCATION:Washtenaw County Road Commission\, 555 N Zeeb Road\, MI\, 48103\, United States
CATEGORIES:Board Meeting
ATTACH;FMTTYPE=image/png:https://www.wcroads.org/wp-content/uploads/2024/09/Board-Meeting.png
ORGANIZER;CN="Washtenaw County Road Commission":MAILTO:wcrc@wcroads.org
END:VEVENT
BEGIN:VEVENT
DTSTART;TZID=America/Detroit:20250520T130000
DTEND;TZID=America/Detroit:20250520T150000
DTSTAMP:20260421T060634
CREATED:20240919T124846Z
LAST-MODIFIED:20240919T124846Z
UID:50174-1747746000-1747753200@www.wcroads.org
SUMMARY:Board Meeting
DESCRIPTION:The Washtenaw County Board of County Road Commissioners will hold an in-person Board Meeting on Tuesday\, May 20\, 2025 at 1 p.m. The public is welcome to attend the 2025 board meetings either in-person or virtually via Zoom. \nJoin the board meeting virtually by visiting wcroads.org/about/the-board/board-meetings/ or dialing (312) 626-6799\, meeting ID: 184 341 317. Participants will be able to address the board virtually or in-person during the public comment period on the agenda. Visit wcroads.org/joining-a-virtual-board-meeting/ for more information.
URL:https://www.wcroads.org/event/board-meeting-5-20-24/
LOCATION:Washtenaw County Road Commission\, 555 N Zeeb Road\, MI\, 48103\, United States
CATEGORIES:Board Meeting
ATTACH;FMTTYPE=image/png:https://www.wcroads.org/wp-content/uploads/2024/09/Board-Meeting.png
ORGANIZER;CN="Washtenaw County Road Commission":MAILTO:wcrc@wcroads.org
END:VEVENT
BEGIN:VEVENT
DTSTART;TZID=America/Detroit:20250506T130000
DTEND;TZID=America/Detroit:20250506T150000
DTSTAMP:20260421T060634
CREATED:20240919T124726Z
LAST-MODIFIED:20240919T124726Z
UID:50173-1746536400-1746543600@www.wcroads.org
SUMMARY:Board Meeting
DESCRIPTION:The Washtenaw County Board of County Road Commissioners will hold an in-person Board Meeting on Tuesday\, May 6\, 2025 at 1 p.m. The public is welcome to attend the 2025 board meetings either in-person or virtually via Zoom. \nJoin the board meeting virtually by visiting wcroads.org/about/the-board/board-meetings/ or dialing (312) 626-6799\, meeting ID: 184 341 317. Participants will be able to address the board virtually or in-person during the public comment period on the agenda. Visit wcroads.org/joining-a-virtual-board-meeting/ for more information.
URL:https://www.wcroads.org/event/board-meeting-5-6-25/
LOCATION:Washtenaw County Road Commission\, 555 N Zeeb Road\, MI\, 48103\, United States
CATEGORIES:Board Meeting
ATTACH;FMTTYPE=image/png:https://www.wcroads.org/wp-content/uploads/2024/09/Board-Meeting.png
ORGANIZER;CN="Washtenaw County Road Commission":MAILTO:wcrc@wcroads.org
END:VEVENT
END:VCALENDAR